BEGIN:VCALENDAR
VERSION:2.0
PRODID:-//Tukios.com/
BEGIN:VEVENT
UID:ac764700-47d4-4604-a5f9-cfbff5b8d43e@www.dalton-funeral-home.com
DTSTAMP:20260422T031646Z
DTSTART:20260424T150000Z
DTEND:20260424T190000Z
SUMMARY:Visitation
DESCRIPTION:
URL:https://www.dalton-funeral-home.com/obituaries/betty-phillips
LOCATION: 620 S Glenwood Ave  Dalton GA 30721
GEO:34.7634619;-84.9639852
END:VEVENT
END:VCALENDAR