BEGIN:VCALENDAR
VERSION:2.0
PRODID:-//Tukios.com/
BEGIN:VEVENT
UID:b7b18c71-6e5c-42ef-82c6-6040dfaf4daf@www.dalton-funeral-home.com
DTSTAMP:20260422T032452Z
DTSTART:20260424T190000Z
DTEND:20260424T200000Z
SUMMARY:Funeral Service
DESCRIPTION:
URL:https://www.dalton-funeral-home.com/obituaries/betty-phillips
LOCATION: 620 S Glenwood Ave  Dalton GA 30721
GEO:34.7634619;-84.9639852
END:VEVENT
END:VCALENDAR