BEGIN:VCALENDAR
VERSION:2.0
PRODID:-//Tukios.com/
BEGIN:VEVENT
UID:254e9f21-7488-4050-a570-897e0b98425e@www.dalton-funeral-home.com
DTSTAMP:20260425T010041Z
DTSTART:20260426T170000Z
DTEND:20260426T190000Z
SUMMARY:Visitation
DESCRIPTION:
URL:https://www.dalton-funeral-home.com/obituaries/kenneth-cooley
LOCATION: 620 S Glenwood Ave  Dalton GA 30721
GEO:34.7634619;-84.9639852
END:VEVENT
END:VCALENDAR