BEGIN:VCALENDAR
VERSION:2.0
PRODID:-//Tukios.com/
BEGIN:VEVENT
UID:8c0b1faa-135d-4a32-bf5c-7f881c1c5e67@www.dalton-funeral-home.com
DTSTAMP:20260425T010005Z
DTSTART:20260426T190000Z
DTEND:20260426T200000Z
SUMMARY:Burial
DESCRIPTION:
URL:https://www.dalton-funeral-home.com/obituaries/kenneth-cooley
LOCATION: 620 S Glenwood Ave  Dalton GA 30721
GEO:34.7634619;-84.9639852
END:VEVENT
END:VCALENDAR