BEGIN:VCALENDAR
VERSION:2.0
PRODID:-//Tukios.com/
BEGIN:VEVENT
UID:565b59d9-f231-4bb4-b693-f9e95d4a92ac@www.dalton-funeral-home.com
DTSTAMP:20260422T133234Z
DTSTART:20260427T140000Z
DTEND:20260427T220000Z
SUMMARY:Visitation
DESCRIPTION:
URL:https://www.dalton-funeral-home.com/obituaries/mischelle-kendrick
LOCATION: 620 S Glenwood Ave  Dalton GA 30721
GEO:34.7634619;-84.9639852
END:VEVENT
END:VCALENDAR