BEGIN:VCALENDAR
VERSION:2.0
PRODID:-//Tukios.com/
BEGIN:VEVENT
UID:2c3c3abf-3dc4-4e4f-a67b-abe030ae5255@www.dalton-funeral-home.com
DTSTAMP:20260422T133402Z
DTSTART:20260427T220000Z
DTEND:20260427T230000Z
SUMMARY:Celebration of Life
DESCRIPTION:
URL:https://www.dalton-funeral-home.com/obituaries/mischelle-kendrick
LOCATION: 620 S Glenwood Ave  Dalton GA 30721
GEO:34.7634619;-84.9639852
END:VEVENT
END:VCALENDAR