BEGIN:VCALENDAR
VERSION:2.0
PRODID:-//Tukios.com/
BEGIN:VEVENT
UID:7a197ca5-9fcf-43f7-a561-b488c42dc595@www.dalton-funeral-home.com
DTSTAMP:20260422T032502Z
DTSTART:20260423T180000Z
DTEND:20260423T200000Z
SUMMARY:Visitation
DESCRIPTION:
URL:https://www.dalton-funeral-home.com/obituaries/paul-sampson
LOCATION:Calvary Baptist Church 13621 GA-225  Crandall GA 30711
GEO:34.9480249;-84.7783408
END:VEVENT
END:VCALENDAR