BEGIN:VCALENDAR
VERSION:2.0
PRODID:-//Tukios.com/
BEGIN:VEVENT
UID:d5189ec3-859a-4845-8f9e-1db3a914e676@www.dalton-funeral-home.com
DTSTAMP:20260422T032131Z
DTSTART:20260423T200000Z
DTEND:20260423T210000Z
SUMMARY:Funeral Service
DESCRIPTION:
URL:https://www.dalton-funeral-home.com/obituaries/paul-sampson
LOCATION: 13621 GA-225  Crandall GA 30711
GEO:34.9480249;-84.7783408
END:VEVENT
END:VCALENDAR